BEGIN:VCALENDAR
VERSION:2.0
PRODID:-//Leinster Badminton - Badminton Union of Ireland - ECPv6.15.20//NONSGML v1.0//EN
CALSCALE:GREGORIAN
METHOD:PUBLISH
X-WR-CALNAME:Leinster Badminton - Badminton Union of Ireland
X-ORIGINAL-URL:https://leinsterbadminton.com
X-WR-CALDESC:Events for Leinster Badminton - Badminton Union of Ireland
REFRESH-INTERVAL;VALUE=DURATION:PT1H
X-Robots-Tag:noindex
X-PUBLISHED-TTL:PT1H
BEGIN:VTIMEZONE
TZID:UTC
BEGIN:STANDARD
TZOFFSETFROM:+0000
TZOFFSETTO:+0000
TZNAME:UTC
DTSTART:20230101T000000
END:STANDARD
END:VTIMEZONE
BEGIN:VEVENT
DTSTART;TZID=UTC:20241130T080000
DTEND;TZID=UTC:20241201T180000
DTSTAMP:20260426T013938
CREATED:20240927T075619Z
LAST-MODIFIED:20240927T075901Z
UID:5057-1732953600-1733076000@leinsterbadminton.com
SUMMARY:Leinster Yonex Open Championship
DESCRIPTION:
URL:https://leinsterbadminton.com/event/leinster-yonex-open-championship-2/
LOCATION:Terenure\, Whitehall Rd\, Dublin 12\, D12 P659\, Ireland
ORGANIZER;CN="Leinster Badminton":MAILTO:yacs@lbbui.ie
END:VEVENT
BEGIN:VEVENT
DTSTART;TZID=UTC:20241130T090000
DTEND;TZID=UTC:20241201T180000
DTSTAMP:20260426T013938
CREATED:20241018T163024Z
LAST-MODIFIED:20241018T163024Z
UID:5133-1732957200-1733076000@leinsterbadminton.com
SUMMARY:Leinster Juvenile Meath DecemberFEST
DESCRIPTION:
URL:https://leinsterbadminton.com/event/leinster-juvenile-meath-decemberfest/
LOCATION:Aura Leisure Centre\, Trim\, Newhaggard Road\, Trim\, Co. Meath\, C15 A258\, Ireland
ORGANIZER;CN="Leinster Badminton":MAILTO:yacs@lbbui.ie
END:VEVENT
END:VCALENDAR