BEGIN:VCALENDAR
VERSION:2.0
PRODID:-//Leinster Badminton - Badminton Union of Ireland - ECPv6.15.20//NONSGML v1.0//EN
CALSCALE:GREGORIAN
METHOD:PUBLISH
X-ORIGINAL-URL:https://leinsterbadminton.com
X-WR-CALDESC:Events for Leinster Badminton - Badminton Union of Ireland
REFRESH-INTERVAL;VALUE=DURATION:PT1H
X-Robots-Tag:noindex
X-PUBLISHED-TTL:PT1H
BEGIN:VTIMEZONE
TZID:UTC
BEGIN:STANDARD
TZOFFSETFROM:+0000
TZOFFSETTO:+0000
TZNAME:UTC
DTSTART:20240101T000000
END:STANDARD
END:VTIMEZONE
BEGIN:VEVENT
DTSTART;TZID=UTC:20250202T090000
DTEND;TZID=UTC:20250202T170000
DTSTAMP:20260425T225831
CREATED:20250117T152046Z
LAST-MODIFIED:20250117T152046Z
UID:5200-1738486800-1738515600@leinsterbadminton.com
SUMMARY:Leinster Yonex Inter County Classes 2\, 4\, & 6
DESCRIPTION:
URL:https://leinsterbadminton.com/event/leinster-yonex-inter-county-classes-2-4-6/
LOCATION:Baldoyle\, Unit 4\, Grange Ave\, Baldoyle Industrial Estate\, Baldoyle\, Dublin 13\, Leinster\, Ireland
ORGANIZER;CN="Leinster Badminton":MAILTO:yacs@lbbui.ie
END:VEVENT
END:VCALENDAR