BEGIN:VCALENDAR
VERSION:2.0
PRODID:-//Leinster Badminton - Badminton Union of Ireland - ECPv6.15.20//NONSGML v1.0//EN
CALSCALE:GREGORIAN
METHOD:PUBLISH
X-WR-CALNAME:Leinster Badminton - Badminton Union of Ireland
X-ORIGINAL-URL:https://leinsterbadminton.com
X-WR-CALDESC:Events for Leinster Badminton - Badminton Union of Ireland
REFRESH-INTERVAL;VALUE=DURATION:PT1H
X-Robots-Tag:noindex
X-PUBLISHED-TTL:PT1H
BEGIN:VTIMEZONE
TZID:UTC
BEGIN:STANDARD
TZOFFSETFROM:+0000
TZOFFSETTO:+0000
TZNAME:UTC
DTSTART:20250101T000000
END:STANDARD
END:VTIMEZONE
BEGIN:VEVENT
DTSTART;TZID=UTC:20260425T093000
DTEND;TZID=UTC:20260425T140000
DTSTAMP:20260425T014050
CREATED:20260313T162352Z
LAST-MODIFIED:20260313T162352Z
UID:5696-1777109400-1777125600@leinsterbadminton.com
SUMMARY:Dublin Juvenile Cup Finals
DESCRIPTION:
URL:https://leinsterbadminton.com/event/dublin-juvenile-cup-finals/
LOCATION:Terenure\, Whitehall Rd\, Dublin 12\, D12 P659\, Ireland
ORGANIZER;CN="Leinster Badminton":MAILTO:yacs@lbbui.ie
END:VEVENT
END:VCALENDAR