BEGIN:VCALENDAR
VERSION:2.0
PRODID:-//Leinster Badminton - Badminton Union of Ireland - ECPv6.15.20//NONSGML v1.0//EN
CALSCALE:GREGORIAN
METHOD:PUBLISH
X-ORIGINAL-URL:https://leinsterbadminton.com
X-WR-CALDESC:Events for Leinster Badminton - Badminton Union of Ireland
REFRESH-INTERVAL;VALUE=DURATION:PT1H
X-Robots-Tag:noindex
X-PUBLISHED-TTL:PT1H
BEGIN:VTIMEZONE
TZID:UTC
BEGIN:STANDARD
TZOFFSETFROM:+0000
TZOFFSETTO:+0000
TZNAME:UTC
DTSTART:20190101T000000
END:STANDARD
END:VTIMEZONE
BEGIN:VEVENT
DTSTART;VALUE=DATE:20201026
DTEND;VALUE=DATE:20201202
DTSTAMP:20260423T091233
CREATED:20191002T150055Z
LAST-MODIFIED:20201026T154140Z
UID:2462-1603670400-1606867199@leinsterbadminton.com
SUMMARY:COVID-19 Postponement: All Events Cancelled
DESCRIPTION:COVID-19 Postponement: All Events Currently Cancelled
URL:https://leinsterbadminton.com/event/covid-19-postponement-events-cancelled/
LOCATION:Co. Kildare
CATEGORIES:Leinster
END:VEVENT
BEGIN:VEVENT
DTSTART;VALUE=DATE:20201107
DTEND;VALUE=DATE:20201108
DTSTAMP:20260423T091233
CREATED:20200708T130436Z
LAST-MODIFIED:20200825T200300Z
UID:3547-1604707200-1604793599@leinsterbadminton.com
SUMMARY:Grade B Nationals (up to and including Quarterfinals)
DESCRIPTION:Grade B Nationals (up to and including Quarterfinals)
URL:https://leinsterbadminton.com/event/grade-b-nationals/
LOCATION:Terenure\, Whitehall Rd\, Dublin 12\, D12 P659\, Ireland
CATEGORIES:Leinster
ORGANIZER;CN="Leinster Badminton":MAILTO:yacs@lbbui.ie
END:VEVENT
BEGIN:VEVENT
DTSTART;VALUE=DATE:20201107
DTEND;VALUE=DATE:20201108
DTSTAMP:20260423T091233
CREATED:20200708T130701Z
LAST-MODIFIED:20200825T200300Z
UID:3549-1604707200-1604793599@leinsterbadminton.com
SUMMARY:Grade E Nationals (up to and including Quarterfinals)
DESCRIPTION:Grade E Nationals (up to and including Quarterfinals)
URL:https://leinsterbadminton.com/event/grade-e-nationals-up-to-and-including-quarterfinals/
LOCATION:Baldoyle\, Unit 4\, Grange Ave\, Baldoyle Industrial Estate\, Baldoyle\, Dublin 13\, Leinster\, Ireland
CATEGORIES:Leinster
ORGANIZER;CN="Leinster Badminton":MAILTO:yacs@lbbui.ie
END:VEVENT
BEGIN:VEVENT
DTSTART;VALUE=DATE:20201107
DTEND;VALUE=DATE:20201108
DTSTAMP:20260423T091233
CREATED:20200708T130847Z
LAST-MODIFIED:20200825T200300Z
UID:3551-1604707200-1604793599@leinsterbadminton.com
SUMMARY:Grade H Nationals (up to and including Quarterfinals)
DESCRIPTION:Grade H Nationals (up to and including Quarterfinals)
URL:https://leinsterbadminton.com/event/grade-h-nationals-up-to-and-including-quarterfinals/
LOCATION:TBC
CATEGORIES:Leinster
ORGANIZER;CN="Leinster Badminton":MAILTO:yacs@lbbui.ie
END:VEVENT
BEGIN:VEVENT
DTSTART;VALUE=DATE:20201122
DTEND;VALUE=DATE:20201123
DTSTAMP:20260423T091233
CREATED:20200708T131030Z
LAST-MODIFIED:20200825T200300Z
UID:3553-1606003200-1606089599@leinsterbadminton.com
SUMMARY:Graded Finals (including B\, E & H Semifinals)
DESCRIPTION:Graded Finals (including B\, E & H Semifinals)
URL:https://leinsterbadminton.com/event/graded-finals-including-b-e-h-semifinals/
LOCATION:Baldoyle\, Unit 4\, Grange Ave\, Baldoyle Industrial Estate\, Baldoyle\, Dublin 13\, Leinster\, Ireland
CATEGORIES:Leinster
ORGANIZER;CN="Leinster Badminton":MAILTO:yacs@lbbui.ie
END:VEVENT
END:VCALENDAR