BEGIN:VCALENDAR
VERSION:2.0
PRODID:-//Leinster Badminton - Badminton Union of Ireland - ECPv6.15.20//NONSGML v1.0//EN
CALSCALE:GREGORIAN
METHOD:PUBLISH
X-ORIGINAL-URL:https://leinsterbadminton.com
X-WR-CALDESC:Events for Leinster Badminton - Badminton Union of Ireland
REFRESH-INTERVAL;VALUE=DURATION:PT1H
X-Robots-Tag:noindex
X-PUBLISHED-TTL:PT1H
BEGIN:VTIMEZONE
TZID:UTC
BEGIN:STANDARD
TZOFFSETFROM:+0000
TZOFFSETTO:+0000
TZNAME:UTC
DTSTART:20180101T000000
END:STANDARD
END:VTIMEZONE
BEGIN:VEVENT
DTSTART;VALUE=DATE:20191109
DTEND;VALUE=DATE:20191111
DTSTAMP:20260425T233323
CREATED:20191002T115249Z
LAST-MODIFIED:20200825T200302Z
UID:2419-1573257600-1573430399@leinsterbadminton.com
SUMMARY:LEINSTER: Senior Team - ICC  - Premier Division
DESCRIPTION:LEINSTER: Senior Team – ICC – Premier Division
URL:https://leinsterbadminton.com/event/leinster-senior-team-icc-premier-division/
LOCATION:Co. Kildare
CATEGORIES:Leinster
END:VEVENT
END:VCALENDAR