BEGIN:VCALENDAR
VERSION:2.0
PRODID:-//Leinster Badminton - Badminton Union of Ireland - ECPv6.15.20//NONSGML v1.0//EN
CALSCALE:GREGORIAN
METHOD:PUBLISH
X-ORIGINAL-URL:https://leinsterbadminton.com
X-WR-CALDESC:Events for Leinster Badminton - Badminton Union of Ireland
REFRESH-INTERVAL;VALUE=DURATION:PT1H
X-Robots-Tag:noindex
X-PUBLISHED-TTL:PT1H
BEGIN:VTIMEZONE
TZID:UTC
BEGIN:STANDARD
TZOFFSETFROM:+0000
TZOFFSETTO:+0000
TZNAME:UTC
DTSTART:20180101T000000
END:STANDARD
END:VTIMEZONE
BEGIN:VEVENT
DTSTART;VALUE=DATE:20191123
DTEND;VALUE=DATE:20191125
DTSTAMP:20260425T233247
CREATED:20191002T144415Z
LAST-MODIFIED:20200825T200301Z
UID:2440-1574467200-1574639999@leinsterbadminton.com
SUMMARY:LEINSTER: Yonex Masters Open
DESCRIPTION:LEINSTER: Yonex Masters Open
URL:https://leinsterbadminton.com/event/leinster-yonex-masters-open/
LOCATION:Baldoyle\, Unit 4\, Grange Ave\, Baldoyle Industrial Estate\, Baldoyle\, Dublin 13\, Leinster\, Ireland
CATEGORIES:Leinster
END:VEVENT
BEGIN:VEVENT
DTSTART;VALUE=DATE:20191123
DTEND;VALUE=DATE:20191125
DTSTAMP:20260425T233247
CREATED:20191002T144535Z
LAST-MODIFIED:20200825T200301Z
UID:2442-1574467200-1574639999@leinsterbadminton.com
SUMMARY:LEINSTER: Yonex Juvenile Open U12/14/16/18
DESCRIPTION:LEINSTER: Yonex Juvenile Open U12/14/16/18
URL:https://leinsterbadminton.com/event/leinster-yonex-juvenile-open-u12-14-16-18/
LOCATION:Terenure\, Whitehall Rd\, Dublin 12\, D12 P659\, Ireland
CATEGORIES:Leinster
END:VEVENT
END:VCALENDAR