BEGIN:VCALENDAR
VERSION:2.0
PRODID:-//Leinster Badminton - Badminton Union of Ireland - ECPv6.15.20//NONSGML v1.0//EN
CALSCALE:GREGORIAN
METHOD:PUBLISH
X-ORIGINAL-URL:https://leinsterbadminton.com
X-WR-CALDESC:Events for Leinster Badminton - Badminton Union of Ireland
REFRESH-INTERVAL;VALUE=DURATION:PT1H
X-Robots-Tag:noindex
X-PUBLISHED-TTL:PT1H
BEGIN:VTIMEZONE
TZID:UTC
BEGIN:STANDARD
TZOFFSETFROM:+0000
TZOFFSETTO:+0000
TZNAME:UTC
DTSTART:20180101T000000
END:STANDARD
END:VTIMEZONE
BEGIN:VEVENT
DTSTART;VALUE=DATE:20191207
DTEND;VALUE=DATE:20191209
DTSTAMP:20260425T221454
CREATED:20191002T145626Z
LAST-MODIFIED:20200825T200301Z
UID:2456-1575676800-1575849599@leinsterbadminton.com
SUMMARY:LEINSTER: Yonex CAC Graded Individual Finals
DESCRIPTION:LEINSTER: Yonex CAC Graded Individual Finals
URL:https://leinsterbadminton.com/event/leinster-yonex-cac-graded-individual-finals/
LOCATION:Baldoyle\, Unit 4\, Grange Ave\, Baldoyle Industrial Estate\, Baldoyle\, Dublin 13\, Leinster\, Ireland
CATEGORIES:Leinster
END:VEVENT
END:VCALENDAR