BEGIN:VCALENDAR
VERSION:2.0
PRODID:-//Leinster Badminton - Badminton Union of Ireland - ECPv6.15.20//NONSGML v1.0//EN
CALSCALE:GREGORIAN
METHOD:PUBLISH
X-WR-CALNAME:Leinster Badminton - Badminton Union of Ireland
X-ORIGINAL-URL:https://leinsterbadminton.com
X-WR-CALDESC:Events for Leinster Badminton - Badminton Union of Ireland
REFRESH-INTERVAL;VALUE=DURATION:PT1H
X-Robots-Tag:noindex
X-PUBLISHED-TTL:PT1H
BEGIN:VTIMEZONE
TZID:UTC
BEGIN:STANDARD
TZOFFSETFROM:+0000
TZOFFSETTO:+0000
TZNAME:UTC
DTSTART:20190101T000000
END:STANDARD
END:VTIMEZONE
BEGIN:VEVENT
DTSTART;VALUE=DATE:20200630
DTEND;VALUE=DATE:20200701
DTSTAMP:20260423T164312
CREATED:20191002T145945Z
LAST-MODIFIED:20200825T200301Z
UID:2460-1593475200-1593561599@leinsterbadminton.com
SUMMARY:Terenure Badminton Centre Re-opening
DESCRIPTION:Terenure Badminton Centre Re-opening\nAfter months of being closed due to COVID-19 we are delighted to be able to re-open our Terenure Badminton Centre. Make sure you join us!
URL:https://leinsterbadminton.com/event/terenure-badminton-centre-re-opening/
LOCATION:Terenure\, Whitehall Rd\, Dublin 12\, D12 P659\, Ireland
CATEGORIES:Leinster
ORGANIZER;CN="Leinster Badminton":MAILTO:yacs@lbbui.ie
END:VEVENT
END:VCALENDAR