BEGIN:VCALENDAR
VERSION:2.0
PRODID:-//Leinster Badminton - Badminton Union of Ireland - ECPv6.15.20//NONSGML v1.0//EN
CALSCALE:GREGORIAN
METHOD:PUBLISH
X-WR-CALNAME:Leinster Badminton - Badminton Union of Ireland
X-ORIGINAL-URL:https://leinsterbadminton.com
X-WR-CALDESC:Events for Leinster Badminton - Badminton Union of Ireland
REFRESH-INTERVAL;VALUE=DURATION:PT1H
X-Robots-Tag:noindex
X-PUBLISHED-TTL:PT1H
BEGIN:VTIMEZONE
TZID:UTC
BEGIN:STANDARD
TZOFFSETFROM:+0000
TZOFFSETTO:+0000
TZNAME:UTC
DTSTART:20240101T000000
END:STANDARD
END:VTIMEZONE
BEGIN:VEVENT
DTSTART;TZID=UTC:20250906T093000
DTEND;TZID=UTC:20250907T180000
DTSTAMP:20260421T134326
CREATED:20250711T104644Z
LAST-MODIFIED:20250812T100407Z
UID:5369-1757151000-1757268000@leinsterbadminton.com
SUMMARY:2025 Leinster Autumn Open
DESCRIPTION:
URL:https://leinsterbadminton.com/event/2025-leinster-autumn-open/
LOCATION:Terenure\, Whitehall Rd\, Dublin 12\, D12 P659\, Ireland
ORGANIZER;CN="Leinster Badminton":MAILTO:yacs@lbbui.ie
END:VEVENT
BEGIN:VEVENT
DTSTART;TZID=UTC:20250921T090000
DTEND;TZID=UTC:20250921T160000
DTSTAMP:20260421T134326
CREATED:20250812T095040Z
LAST-MODIFIED:20250822T112033Z
UID:5393-1758445200-1758470400@leinsterbadminton.com
SUMMARY:Leinster U11 Closed Blitz
DESCRIPTION:
URL:https://leinsterbadminton.com/event/leinster-u11-blitz/
LOCATION:Terenure\, Whitehall Rd\, Dublin 12\, D12 P659\, Ireland
ATTACH;FMTTYPE=image/png:https://leinsterbadminton.com/wp-content/uploads/2021/04/LB-Horiz.png
ORGANIZER;CN="YACS":MAILTO:yacs@lbbui.ie
END:VEVENT
BEGIN:VEVENT
DTSTART;TZID=UTC:20250927T090000
DTEND;TZID=UTC:20250928T190000
DTSTAMP:20260421T134326
CREATED:20250812T101500Z
LAST-MODIFIED:20250822T113001Z
UID:5395-1758963600-1759086000@leinsterbadminton.com
SUMMARY:Leinster Juvenile SeptemberFEST
DESCRIPTION:
URL:https://leinsterbadminton.com/event/leinster-juvenile-septemberfest/
LOCATION:Terenure\, Whitehall Rd\, Dublin 12\, D12 P659\, Ireland
ATTACH;FMTTYPE=image/png:https://leinsterbadminton.com/wp-content/uploads/2021/04/LB-Horiz.png
ORGANIZER;CN="YACS":MAILTO:yacs@lbbui.ie
END:VEVENT
END:VCALENDAR