BEGIN:VCALENDAR
VERSION:2.0
PRODID:-//Leinster Badminton - Badminton Union of Ireland - ECPv6.15.20//NONSGML v1.0//EN
CALSCALE:GREGORIAN
METHOD:PUBLISH
X-WR-CALNAME:Leinster Badminton - Badminton Union of Ireland
X-ORIGINAL-URL:https://leinsterbadminton.com
X-WR-CALDESC:Events for Leinster Badminton - Badminton Union of Ireland
REFRESH-INTERVAL;VALUE=DURATION:PT1H
X-Robots-Tag:noindex
X-PUBLISHED-TTL:PT1H
BEGIN:VTIMEZONE
TZID:UTC
BEGIN:STANDARD
TZOFFSETFROM:+0000
TZOFFSETTO:+0000
TZNAME:UTC
DTSTART:20250101T000000
END:STANDARD
END:VTIMEZONE
BEGIN:VEVENT
DTSTART;TZID=UTC:20260117T090000
DTEND;TZID=UTC:20260118T180000
DTSTAMP:20260421T192050
CREATED:20251124T172317Z
LAST-MODIFIED:20260105T144039Z
UID:5564-1768640400-1768759200@leinsterbadminton.com
SUMMARY:Leinster VICTOR U15 Open January 17-18 2026
DESCRIPTION:
URL:https://leinsterbadminton.com/event/leinster-victor-u15-open-january-17-18-2026/
LOCATION:Terenure\, Whitehall Rd\, Dublin 12\, D12 P659\, Ireland
ORGANIZER;CN="Leinster Badminton":MAILTO:yacs@lbbui.ie
END:VEVENT
BEGIN:VEVENT
DTSTART;TZID=UTC:20260117T090000
DTEND;TZID=UTC:20260118T180000
DTSTAMP:20260421T192050
CREATED:20251124T172502Z
LAST-MODIFIED:20251124T172502Z
UID:5567-1768640400-1768759200@leinsterbadminton.com
SUMMARY:Leinster Victor U19 Open January 17-18 2026
DESCRIPTION:
URL:https://leinsterbadminton.com/event/leinster-victor-u19-open-january-17-18-2026/
LOCATION:Baldoyle\, Unit 4\, Grange Ave\, Baldoyle Industrial Estate\, Baldoyle\, Dublin 13\, Leinster\, Ireland
ORGANIZER;CN="Leinster Badminton":MAILTO:yacs@lbbui.ie
END:VEVENT
END:VCALENDAR